BEGIN:VCALENDAR
VERSION:2.0
PRODID:-//InvisionCommunity Events 4.7.23//EN
METHOD:PUBLISH
CALSCALE:GREGORIAN
REFRESH-INTERVAL:PT15M
X-PUBLISHED-TTL:PT15M
X-WR-CALNAME:At My TV
NAME:At My TV
BEGIN:VTIMEZONE
TZID:Europe/London
TZURL:http://tzurl.org/zoneinfo/Europe/London
X-LIC-LOCATION:Europe/London
BEGIN:DAYLIGHT
TZOFFSETFROM:+0000
TZOFFSETTO:+0100
TZNAME:BST
DTSTART:20170326T020000Z
RRULE:FREQ=YEARLY;BYMONTH=3;BYDAY=-1SU
END:DAYLIGHT
BEGIN:STANDARD
TZOFFSETFROM:+0100
TZOFFSETTO:+0000
TZNAME:GMT
DTSTART:20171029T020000Z
RRULE:FREQ=YEARLY;BYMONTH=10;BYDAY=-1SU
END:STANDARD
END:VTIMEZONE
BEGIN:VEVENT
SUMMARY:Dynasty 1x2 - Spit It Out
DTSTAMP:20171005T061541Z
SEQUENCE:0
UID:76349-2-841ebed20eb198c4569419e99b7bf40a@themidnightzone.com
ORGANIZER;CN="Midnight":midnight@themidnightzone.com
DESCRIPTION:When it's discovered that Matthew's \"accidental\" death may
	 haveinvolved foul play\, the spotlight falls on the Carringtonsthemselves
	. The family must swallow their own suspicions ofeach other and close rank
	 to defend the clan. Cristal struggleswith what it means to be a Carringto
	n\, while Fallonbegrudgingly helps cover up Cristal's affair to protect th
	efamily name. Despite their efforts\, everything comes to anemotional head
	 at Matthew's funeral.
DTSTART:20171019T010000Z
DTEND:20171019T020000Z
END:VEVENT
END:VCALENDAR
