BEGIN:VCALENDAR
VERSION:2.0
PRODID:-//InvisionCommunity Events 4.7.23//EN
METHOD:PUBLISH
CALSCALE:GREGORIAN
REFRESH-INTERVAL:PT15M
X-PUBLISHED-TTL:PT15M
X-WR-CALNAME:At My TV
NAME:At My TV
BEGIN:VTIMEZONE
TZID:Europe/London
TZURL:http://tzurl.org/zoneinfo/Europe/London
X-LIC-LOCATION:Europe/London
BEGIN:DAYLIGHT
TZOFFSETFROM:+0000
TZOFFSETTO:+0100
TZNAME:BST
DTSTART:20170326T020000Z
RRULE:FREQ=YEARLY;BYMONTH=3;BYDAY=-1SU
END:DAYLIGHT
BEGIN:STANDARD
TZOFFSETFROM:+0100
TZOFFSETTO:+0000
TZNAME:GMT
DTSTART:20171029T020000Z
RRULE:FREQ=YEARLY;BYMONTH=10;BYDAY=-1SU
END:STANDARD
END:VTIMEZONE
BEGIN:VEVENT
SUMMARY:The Middle 9x4 - Halloween VIII: Orson Murder Mystery
DTSTAMP:20171011T100539Z
SEQUENCE:0
UID:76739-2-841ebed20eb198c4569419e99b7bf40a@themidnightzone.com
ORGANIZER;CN="Midnight":midnight@themidnightzone.com
DESCRIPTION:As Halloween approaches\, Frankie discovers that a woman had
	died in the bathtub of the Heck house close to 50 years ago\,and Frankie a
	nd Brick become convinced that she was murderedand\, much to Mike's chagri
	n\, attempt to track down and findthe murderer. Meanwhile\, Axl and Lexie 
	become frustrated overlosing their alone time when Sue insists on hanging 
	out withthem wherever they go.
DTSTART:20171025T000000Z
DTEND:20171025T003000Z
END:VEVENT
END:VCALENDAR
