BEGIN:VCALENDAR
VERSION:2.0
PRODID:-//InvisionCommunity Events 4.7.23//EN
METHOD:PUBLISH
CALSCALE:GREGORIAN
REFRESH-INTERVAL:PT15M
X-PUBLISHED-TTL:PT15M
X-WR-CALNAME:At My TV
NAME:At My TV
BEGIN:VTIMEZONE
TZID:Europe/London
TZURL:http://tzurl.org/zoneinfo/Europe/London
X-LIC-LOCATION:Europe/London
BEGIN:DAYLIGHT
TZOFFSETFROM:+0000
TZOFFSETTO:+0100
TZNAME:BST
DTSTART:20170326T020000Z
RRULE:FREQ=YEARLY;BYMONTH=3;BYDAY=-1SU
END:DAYLIGHT
BEGIN:STANDARD
TZOFFSETFROM:+0100
TZOFFSETTO:+0000
TZNAME:GMT
DTSTART:20171029T020000Z
RRULE:FREQ=YEARLY;BYMONTH=10;BYDAY=-1SU
END:STANDARD
END:VTIMEZONE
BEGIN:VEVENT
SUMMARY:Ghost Adventures 15x8 - Eureka Mining Town
DTSTAMP:20171015T100539Z
SEQUENCE:0
UID:76975-2-841ebed20eb198c4569419e99b7bf40a@themidnightzone.com
ORGANIZER;CN="Midnight":midnight@themidnightzone.com
DESCRIPTION:Zak and the crew travel to the small mining town of Eureka\,
	Nevada\, to investigate reports of an aggressive spirit at ahotel as well 
	as a mysterious underground tunnel system builtby oppressed Chinese.  The 
	TunnelsBut the tunnels beneath thesaloon are where the real action occurs.
	 Accounts as to whythese tunnels exist vary\, but the effect they have on 
	visitorsis chilling\, to say the least.
DTSTART:20171210T020000Z
DTEND:20171210T030000Z
END:VEVENT
END:VCALENDAR
