BEGIN:VCALENDAR
VERSION:2.0
PRODID:-//InvisionCommunity Events 4.7.23//EN
METHOD:PUBLISH
CALSCALE:GREGORIAN
REFRESH-INTERVAL:PT15M
X-PUBLISHED-TTL:PT15M
X-WR-CALNAME:At My TV
NAME:At My TV
BEGIN:VTIMEZONE
TZID:Europe/London
TZURL:http://tzurl.org/zoneinfo/Europe/London
X-LIC-LOCATION:Europe/London
BEGIN:DAYLIGHT
TZOFFSETFROM:+0000
TZOFFSETTO:+0100
TZNAME:BST
DTSTART:20170326T020000Z
RRULE:FREQ=YEARLY;BYMONTH=3;BYDAY=-1SU
END:DAYLIGHT
BEGIN:STANDARD
TZOFFSETFROM:+0100
TZOFFSETTO:+0000
TZNAME:GMT
DTSTART:20171029T020000Z
RRULE:FREQ=YEARLY;BYMONTH=10;BYDAY=-1SU
END:STANDARD
END:VTIMEZONE
BEGIN:VEVENT
SUMMARY:Law & Order: True Crime 1x6 - Episode 6
DTSTAMP:20171018T100539Z
SEQUENCE:0
UID:77145-2-841ebed20eb198c4569419e99b7bf40a@themidnightzone.com
ORGANIZER;CN="Midnight":midnight@themidnightzone.com
DESCRIPTION:The jury hears from Lyle and Erik for the first time when th
	ebrothers testify in court\, recounting in detail the years ofsexual abuse
	 that led them to fear for their lives. Lesliemakes a surprising move afte
	r Judge Weisberg approves theprosecution's request to unseal the tape of t
	he brothers'confession to Dr. Oziel. After closing arguments are made\, th
	ejury is left to determine a verdict. Meanwhile\, Leslie finds arenewed pu
	rpose after she and her husband welcome their adoptedson into their home.
DTSTART:20171101T020000Z
DTEND:20171101T030000Z
END:VEVENT
END:VCALENDAR
