BEGIN:VCALENDAR
VERSION:2.0
PRODID:-//InvisionCommunity Events 4.7.23//EN
METHOD:PUBLISH
CALSCALE:GREGORIAN
REFRESH-INTERVAL:PT15M
X-PUBLISHED-TTL:PT15M
X-WR-CALNAME:At My TV
NAME:At My TV
BEGIN:VTIMEZONE
TZID:Europe/London
TZURL:http://tzurl.org/zoneinfo/Europe/London
X-LIC-LOCATION:Europe/London
BEGIN:DAYLIGHT
TZOFFSETFROM:+0000
TZOFFSETTO:+0100
TZNAME:BST
DTSTART:20170326T020000Z
RRULE:FREQ=YEARLY;BYMONTH=3;BYDAY=-1SU
END:DAYLIGHT
BEGIN:STANDARD
TZOFFSETFROM:+0100
TZOFFSETTO:+0000
TZNAME:GMT
DTSTART:20171029T020000Z
RRULE:FREQ=YEARLY;BYMONTH=10;BYDAY=-1SU
END:STANDARD
END:VTIMEZONE
BEGIN:VEVENT
SUMMARY:Celebrity Juice 18x8 - Ed Sheeran\, Chris Kamara\, ChrisRams
	ey\, Louis Walsh
DTSTAMP:20171019T100538Z
SEQUENCE:0
UID:77218-2-841ebed20eb198c4569419e99b7bf40a@themidnightzone.com
ORGANIZER;CN="Midnight":midnight@themidnightzone.com
DESCRIPTION:Keith Lemon hosts the outrageous comedy panel show\, which s
	eesteam captain Fearne Cotton and very special guest teamcaptain\, global 
	megastar Ed Sheeran go head to head in aseries of hilarious games. Joining
	 the panel this week ispopular TV presenter Chris Kamara\, hilarious comed
	ian ChrisRamsey\, and X Factor judge Louis Walsh.
DTSTART:20171102T220000Z
DTEND:20171102T225000Z
END:VEVENT
END:VCALENDAR
