BEGIN:VCALENDAR
VERSION:2.0
PRODID:-//InvisionCommunity Events 4.7.23//EN
METHOD:PUBLISH
CALSCALE:GREGORIAN
REFRESH-INTERVAL:PT15M
X-PUBLISHED-TTL:PT15M
X-WR-CALNAME:At My TV
NAME:At My TV
BEGIN:VTIMEZONE
TZID:Europe/London
TZURL:http://tzurl.org/zoneinfo/Europe/London
X-LIC-LOCATION:Europe/London
BEGIN:DAYLIGHT
TZOFFSETFROM:+0000
TZOFFSETTO:+0100
TZNAME:BST
DTSTART:20170326T020000Z
RRULE:FREQ=YEARLY;BYMONTH=3;BYDAY=-1SU
END:DAYLIGHT
BEGIN:STANDARD
TZOFFSETFROM:+0100
TZOFFSETTO:+0000
TZNAME:GMT
DTSTART:20171029T020000Z
RRULE:FREQ=YEARLY;BYMONTH=10;BYDAY=-1SU
END:STANDARD
END:VTIMEZONE
BEGIN:VEVENT
SUMMARY:Chicago Fire 6x6 - Down is Better
DTSTAMP:20171020T100538Z
SEQUENCE:0
UID:77304-2-841ebed20eb198c4569419e99b7bf40a@themidnightzone.com
ORGANIZER;CN="Midnight":midnight@themidnightzone.com
DESCRIPTION:After heroically saving a mother and newborn baby from aroof
	top fire\, Kidd receives surprising news when she discoversshe is being tr
	ansferred out of the firehouse. Severide andCasey believe something is off
	 about the turn of events\,prompting them to investigate the situation. Ot
	is and Herrmanndiscuss the possibilities of taking over a rundown bar andD
	awson's frustration with her father\, Ramon\, reaches aboiling point.
DTSTART:20171103T020000Z
DTEND:20171103T030000Z
END:VEVENT
END:VCALENDAR
