BEGIN:VCALENDAR
VERSION:2.0
PRODID:-//InvisionCommunity Events 4.7.23//EN
METHOD:PUBLISH
CALSCALE:GREGORIAN
REFRESH-INTERVAL:PT15M
X-PUBLISHED-TTL:PT15M
X-WR-CALNAME:At My TV
NAME:At My TV
BEGIN:VTIMEZONE
TZID:Europe/London
TZURL:http://tzurl.org/zoneinfo/Europe/London
X-LIC-LOCATION:Europe/London
BEGIN:DAYLIGHT
TZOFFSETFROM:+0000
TZOFFSETTO:+0100
TZNAME:BST
DTSTART:20170326T020000Z
RRULE:FREQ=YEARLY;BYMONTH=3;BYDAY=-1SU
END:DAYLIGHT
BEGIN:STANDARD
TZOFFSETFROM:+0100
TZOFFSETTO:+0000
TZNAME:GMT
DTSTART:20171029T020000Z
RRULE:FREQ=YEARLY;BYMONTH=10;BYDAY=-1SU
END:STANDARD
END:VTIMEZONE
BEGIN:VEVENT
SUMMARY:The Frankenstein Chronicles 2x1 - Prodigal Son
DTSTAMP:20171021T100539Z
SEQUENCE:0
UID:77362-2-841ebed20eb198c4569419e99b7bf40a@themidnightzone.com
ORGANIZER;CN="Midnight":midnight@themidnightzone.com
DESCRIPTION:Three years have passed since John Marlott escaped from Dani
	elHervey. In 1830\, we find him chained and manacled in a cell atRoyal Bet
	hlem Hospital\, on a wing for the criminally insane.Suddenly after being a
	dministered electro-shock therapy\,Marlott is jolted back to life with ren
	ewed purpose to seekrevenge on Daniel Hervey for his crimes\, and to redee
	m hissoul after being wrongly convicted for murder.
DTSTART:20171101T220000Z
DTEND:20171101T230000Z
END:VEVENT
END:VCALENDAR
