BEGIN:VCALENDAR
VERSION:2.0
PRODID:-//InvisionCommunity Events 4.7.23//EN
METHOD:PUBLISH
CALSCALE:GREGORIAN
REFRESH-INTERVAL:PT15M
X-PUBLISHED-TTL:PT15M
X-WR-CALNAME:At My TV
NAME:At My TV
BEGIN:VTIMEZONE
TZID:Europe/London
TZURL:http://tzurl.org/zoneinfo/Europe/London
X-LIC-LOCATION:Europe/London
BEGIN:DAYLIGHT
TZOFFSETFROM:+0000
TZOFFSETTO:+0100
TZNAME:BST
DTSTART:20170326T020000Z
RRULE:FREQ=YEARLY;BYMONTH=3;BYDAY=-1SU
END:DAYLIGHT
BEGIN:STANDARD
TZOFFSETFROM:+0100
TZOFFSETTO:+0000
TZNAME:GMT
DTSTART:20171029T020000Z
RRULE:FREQ=YEARLY;BYMONTH=10;BYDAY=-1SU
END:STANDARD
END:VTIMEZONE
BEGIN:VEVENT
SUMMARY:Strictly Come Dancing 15x12 - Week 6 Results
DTSTAMP:20171021T100539Z
SEQUENCE:0
UID:77376-2-841ebed20eb198c4569419e99b7bf40a@themidnightzone.com
ORGANIZER;CN="Midnight":midnight@themidnightzone.com
DESCRIPTION:Tess Daly and Claudia Winkleman reveal the results of thefri
	ghteningly fabulous Halloween special. Ballroom bigwigsShirley Ballas\, Da
	rcey Bussell\, Bruno Tonioli and Craig RevelHorwood have cast their votes\
	, which have been added to theviewers' votes\, and now the two couples wit
	h the lowestcombined votes face each other in the dance-off. Then it isdow
	n to the judges to cast their spells and decide who staysand which couple 
	will leave the competition for good. There ismusic from British dance pop 
	group Steps\, and the judges sitdown with Claudia once again for a debrief
	 of Saturday night'sperformances.
DTSTART:20171029T191500Z
DTEND:20171029T201500Z
END:VEVENT
END:VCALENDAR
