BEGIN:VCALENDAR
VERSION:2.0
PRODID:-//InvisionCommunity Events 4.7.23//EN
METHOD:PUBLISH
CALSCALE:GREGORIAN
REFRESH-INTERVAL:PT15M
X-PUBLISHED-TTL:PT15M
X-WR-CALNAME:At My TV
NAME:At My TV
BEGIN:VTIMEZONE
TZID:Europe/London
TZURL:http://tzurl.org/zoneinfo/Europe/London
X-LIC-LOCATION:Europe/London
BEGIN:DAYLIGHT
TZOFFSETFROM:+0000
TZOFFSETTO:+0100
TZNAME:BST
DTSTART:20170326T020000Z
RRULE:FREQ=YEARLY;BYMONTH=3;BYDAY=-1SU
END:DAYLIGHT
BEGIN:STANDARD
TZOFFSETFROM:+0100
TZOFFSETTO:+0000
TZNAME:GMT
DTSTART:20171029T020000Z
RRULE:FREQ=YEARLY;BYMONTH=10;BYDAY=-1SU
END:STANDARD
END:VTIMEZONE
BEGIN:VEVENT
SUMMARY:The X Factor (UK) 14x18 - Live Show 2
DTSTAMP:20171021T100539Z
SEQUENCE:0
UID:77381-2-841ebed20eb198c4569419e99b7bf40a@themidnightzone.com
ORGANIZER;CN="Midnight":midnight@themidnightzone.com
DESCRIPTION:The nation's favourite singing show continues. Each of thefi
	nal 16 contestants will sing their hearts out on the livestage with judges
	 Louis Walsh\, Sharon Osbourne\, NicoleScherzinger and Simon Cowell resumi
	ng their seats behind thejudges' desk to battle it out with their contesta
	nts in thehope of impressing the audience at home. This year Louis hasthe 
	boys\, Nicole the over-28s\, Simon the groups and Sharonthe girls\, with r
	esident host Dermot O'Leary leading theproceedings and keeping the judges 
	in check along the way.Throughout the live shows an outstanding line-up of
	 guest starsperform.
DTSTART:20171029T190000Z
DTEND:20171029T200000Z
END:VEVENT
END:VCALENDAR
