BEGIN:VCALENDAR
VERSION:2.0
PRODID:-//InvisionCommunity Events 4.7.23//EN
METHOD:PUBLISH
CALSCALE:GREGORIAN
REFRESH-INTERVAL:PT15M
X-PUBLISHED-TTL:PT15M
X-WR-CALNAME:At My TV
NAME:At My TV
BEGIN:VTIMEZONE
TZID:Europe/London
TZURL:http://tzurl.org/zoneinfo/Europe/London
X-LIC-LOCATION:Europe/London
BEGIN:DAYLIGHT
TZOFFSETFROM:+0000
TZOFFSETTO:+0100
TZNAME:BST
DTSTART:20170326T020000Z
RRULE:FREQ=YEARLY;BYMONTH=3;BYDAY=-1SU
END:DAYLIGHT
BEGIN:STANDARD
TZOFFSETFROM:+0100
TZOFFSETTO:+0000
TZNAME:GMT
DTSTART:20171029T020000Z
RRULE:FREQ=YEARLY;BYMONTH=10;BYDAY=-1SU
END:STANDARD
END:VTIMEZONE
BEGIN:VEVENT
SUMMARY:Shark Tank 9x7 - Episode 7
DTSTAMP:20171023T100537Z
SEQUENCE:0
UID:77456-2-841ebed20eb198c4569419e99b7bf40a@themidnightzone.com
ORGANIZER;CN="Midnight":midnight@themidnightzone.com
DESCRIPTION:An entrepreneur from Santa Monica\, California\, introduces 
	theworld's first all-electric\, free car-sharing service\; amonthly member
	ship that makes it easy for parents andcaregivers to discover\, book and a
	ttend family activities atan affordable rate\, from an entrepreneur in Chi
	cago\,Illinois\; a Cambridge\, Massachusetts\, entrepreneur inventeda prod
	uct that can turn any regular bicycle into an electricbike in under one mi
	nute\; and a digital baby journal thatcaptures memories through text messa
	ge\, from an entrepreneurin Auburndale\, Massachusetts.
DTSTART:20171030T020000Z
DTEND:20171030T030000Z
END:VEVENT
END:VCALENDAR
