BEGIN:VCALENDAR
VERSION:2.0
PRODID:-//InvisionCommunity Events 4.7.23//EN
METHOD:PUBLISH
CALSCALE:GREGORIAN
REFRESH-INTERVAL:PT15M
X-PUBLISHED-TTL:PT15M
X-WR-CALNAME:At My TV
NAME:At My TV
BEGIN:VTIMEZONE
TZID:Europe/London
TZURL:http://tzurl.org/zoneinfo/Europe/London
X-LIC-LOCATION:Europe/London
BEGIN:DAYLIGHT
TZOFFSETFROM:+0000
TZOFFSETTO:+0100
TZNAME:BST
DTSTART:20170326T020000Z
RRULE:FREQ=YEARLY;BYMONTH=3;BYDAY=-1SU
END:DAYLIGHT
BEGIN:STANDARD
TZOFFSETFROM:+0100
TZOFFSETTO:+0000
TZNAME:GMT
DTSTART:20171029T020000Z
RRULE:FREQ=YEARLY;BYMONTH=10;BYDAY=-1SU
END:STANDARD
END:VTIMEZONE
BEGIN:VEVENT
SUMMARY:Chopped 35x16 - Pie Jinks
DTSTAMP:20171027T100537Z
SEQUENCE:0
UID:77719-2-841ebed20eb198c4569419e99b7bf40a@themidnightzone.com
ORGANIZER;CN="Midnight":midnight@themidnightzone.com
DESCRIPTION:The chefs get news that the judges will be expecting threeco
	urses of flaky\, perfect pies. Sour gummies and sausage arepart of the app
	etizer round pie puzzle\, then the entrée roundhas the three remaining ch
	efs making savory pies that mustinclude baby kale. After a dessert round w
	ith candied ginger inthe basket\, who will be left eating humble pie\, and
	 who willwin \,000?
DTSTART:20171110T020000Z
DTEND:20171110T030000Z
END:VEVENT
END:VCALENDAR
