BEGIN:VCALENDAR
VERSION:2.0
PRODID:-//InvisionCommunity Events 4.7.23//EN
METHOD:PUBLISH
CALSCALE:GREGORIAN
REFRESH-INTERVAL:PT15M
X-PUBLISHED-TTL:PT15M
X-WR-CALNAME:At My TV
NAME:At My TV
BEGIN:VTIMEZONE
TZID:Europe/London
TZURL:http://tzurl.org/zoneinfo/Europe/London
X-LIC-LOCATION:Europe/London
BEGIN:DAYLIGHT
TZOFFSETFROM:+0000
TZOFFSETTO:+0100
TZNAME:BST
DTSTART:20170326T020000Z
RRULE:FREQ=YEARLY;BYMONTH=3;BYDAY=-1SU
END:DAYLIGHT
BEGIN:STANDARD
TZOFFSETFROM:+0100
TZOFFSETTO:+0000
TZNAME:GMT
DTSTART:20171029T020000Z
RRULE:FREQ=YEARLY;BYMONTH=10;BYDAY=-1SU
END:STANDARD
END:VTIMEZONE
BEGIN:VEVENT
SUMMARY:Peaky Blinders 4x1 - The Noose
DTSTAMP:20171101T100540Z
SEQUENCE:0
UID:78006-2-841ebed20eb198c4569419e99b7bf40a@themidnightzone.com
ORGANIZER;CN="Midnight":midnight@themidnightzone.com
DESCRIPTION:December 1925. Tommy Shelby OBE has acquired unprecedentedle
	gitimacy. The former gangster is also a man alone\, estrangedfrom his fami
	ly and focussed only on business. But when hereceives a mysterious letter 
	on Christmas Eve\, Tommy realisesthat the Shelbys are in danger of annihil
	ation.As the enemycloses in\, Tommy flees his country house and returns to
	 theonly safe place he knows: Small Heath\, Birmingham\, the slumwhere he 
	grew up. Facing a more determined and sophisticatedthreat than ever before
	\, the Shelby family must find a way toput differences aside\, work togeth
	er\, take up arms and fightfor survival...
DTSTART:20171115T210000Z
DTEND:20171115T220000Z
END:VEVENT
END:VCALENDAR
