BEGIN:VCALENDAR
VERSION:2.0
PRODID:-//InvisionCommunity Events 4.7.23//EN
METHOD:PUBLISH
CALSCALE:GREGORIAN
REFRESH-INTERVAL:PT15M
X-PUBLISHED-TTL:PT15M
X-WR-CALNAME:At My TV
NAME:At My TV
BEGIN:VTIMEZONE
TZID:Europe/London
TZURL:http://tzurl.org/zoneinfo/Europe/London
X-LIC-LOCATION:Europe/London
BEGIN:DAYLIGHT
TZOFFSETFROM:+0000
TZOFFSETTO:+0100
TZNAME:BST
DTSTART:20170326T020000Z
RRULE:FREQ=YEARLY;BYMONTH=3;BYDAY=-1SU
END:DAYLIGHT
BEGIN:STANDARD
TZOFFSETFROM:+0100
TZOFFSETTO:+0000
TZNAME:GMT
DTSTART:20171029T020000Z
RRULE:FREQ=YEARLY;BYMONTH=10;BYDAY=-1SU
END:STANDARD
END:VTIMEZONE
BEGIN:VEVENT
SUMMARY:The Voice 13x16 - The Playoffs\, Night 2
DTSTAMP:20171101T100540Z
SEQUENCE:0
UID:78018-2-841ebed20eb198c4569419e99b7bf40a@themidnightzone.com
ORGANIZER;CN="Midnight":midnight@themidnightzone.com
DESCRIPTION:The remaining artists perform in front of coaches Miley Cyru
	s\,Jennifer Hudson\, Adam Levine and Blake Shelton for theirchance at a sp
	ot in the live shows. Tonight\, Miley will revealher Comeback Artist\, and
	 her team will be cut in half\, as shewill select three of her six remaini
	ng artists to complete herroster and move on to the final phase of the com
	petition - theLive Shows.
DTSTART:20171115T010000Z
DTEND:20171115T030000Z
END:VEVENT
END:VCALENDAR
