BEGIN:VCALENDAR
VERSION:2.0
PRODID:-//InvisionCommunity Events 4.7.23//EN
METHOD:PUBLISH
CALSCALE:GREGORIAN
REFRESH-INTERVAL:PT15M
X-PUBLISHED-TTL:PT15M
X-WR-CALNAME:At My TV
NAME:At My TV
BEGIN:VTIMEZONE
TZID:Europe/London
TZURL:http://tzurl.org/zoneinfo/Europe/London
X-LIC-LOCATION:Europe/London
BEGIN:DAYLIGHT
TZOFFSETFROM:+0000
TZOFFSETTO:+0100
TZNAME:BST
DTSTART:20170326T020000Z
RRULE:FREQ=YEARLY;BYMONTH=3;BYDAY=-1SU
END:DAYLIGHT
BEGIN:STANDARD
TZOFFSETFROM:+0100
TZOFFSETTO:+0000
TZNAME:GMT
DTSTART:20171029T020000Z
RRULE:FREQ=YEARLY;BYMONTH=10;BYDAY=-1SU
END:STANDARD
END:VTIMEZONE
BEGIN:VEVENT
SUMMARY:The Goldbergs (2013) 5x7 - A Wall Street Thanksgiving
DTSTAMP:20171102T100538Z
SEQUENCE:0
UID:78063-2-841ebed20eb198c4569419e99b7bf40a@themidnightzone.com
ORGANIZER;CN="Midnight":midnight@themidnightzone.com
DESCRIPTION:During the holiday\, Uncle Marvin reveals he has become asto
	ckbroker and convinces Barry and the JTP to invest theirmoney with him. Mu
	rray intervenes which has repercussions forBarry. Meanwhile\, Erica tells 
	Geoff she is in debt and getsswept up in the family investment. Later\, Be
	verly invites 50people over for a Thanksgiving potluck instead of stressin
	g outcooking for the family\, but the plan backfires and Beverlyrealizes s
	ome traditions shouldn't change.
DTSTART:20171116T010000Z
DTEND:20171116T013000Z
END:VEVENT
END:VCALENDAR
