BEGIN:VCALENDAR
VERSION:2.0
PRODID:-//InvisionCommunity Events 4.7.23//EN
METHOD:PUBLISH
CALSCALE:GREGORIAN
REFRESH-INTERVAL:PT15M
X-PUBLISHED-TTL:PT15M
X-WR-CALNAME:At My TV
NAME:At My TV
BEGIN:VTIMEZONE
TZID:Europe/London
TZURL:http://tzurl.org/zoneinfo/Europe/London
X-LIC-LOCATION:Europe/London
BEGIN:DAYLIGHT
TZOFFSETFROM:+0000
TZOFFSETTO:+0100
TZNAME:BST
DTSTART:20170326T020000Z
RRULE:FREQ=YEARLY;BYMONTH=3;BYDAY=-1SU
END:DAYLIGHT
BEGIN:STANDARD
TZOFFSETFROM:+0100
TZOFFSETTO:+0000
TZNAME:GMT
DTSTART:20171029T020000Z
RRULE:FREQ=YEARLY;BYMONTH=10;BYDAY=-1SU
END:STANDARD
END:VTIMEZONE
BEGIN:VEVENT
SUMMARY:Peaky Blinders 4x2 - Heathens
DTSTAMP:20171108T100537Z
SEQUENCE:0
UID:78487-2-841ebed20eb198c4569419e99b7bf40a@themidnightzone.com
ORGANIZER;CN="Midnight":midnight@themidnightzone.com
DESCRIPTION:As the Shelbys come to terms with the shocking events ofChri
	stmas Day\, Tommy endeavours to unite his family. Until thecurrent threat 
	is dealt with\, their only safe place istogether in Small Heath. Johnny Do
	gs and Charlie set aboutarming the locals - everyone is now a Peaky bodygu
	ard. Tommyenlists the help of tough Romany Gypsy Aberama Gold\, who wantss
	omething unusual in return.Jessie Eden confronts Tommy aboutthe workers' p
	ay. She warns him that revolution is in the air\,and when Tommy doesn't re
	lent she calls his bluff. As thesituation plays out\, Tommy's factory mana
	ger tells him he hasone more meeting - with a mysterious businessman from 
	Paris.But what transpires is no ordinary meeting with no ordinarybusinessm
	an...
DTSTART:20171122T210000Z
DTEND:20171122T220000Z
END:VEVENT
END:VCALENDAR
