BEGIN:VCALENDAR
VERSION:2.0
PRODID:-//InvisionCommunity Events 4.7.23//EN
METHOD:PUBLISH
CALSCALE:GREGORIAN
REFRESH-INTERVAL:PT15M
X-PUBLISHED-TTL:PT15M
X-WR-CALNAME:At My TV
NAME:At My TV
BEGIN:VTIMEZONE
TZID:Europe/London
TZURL:http://tzurl.org/zoneinfo/Europe/London
X-LIC-LOCATION:Europe/London
BEGIN:DAYLIGHT
TZOFFSETFROM:+0000
TZOFFSETTO:+0100
TZNAME:BST
DTSTART:20170326T020000Z
RRULE:FREQ=YEARLY;BYMONTH=3;BYDAY=-1SU
END:DAYLIGHT
BEGIN:STANDARD
TZOFFSETFROM:+0100
TZOFFSETTO:+0000
TZNAME:GMT
DTSTART:20171029T020000Z
RRULE:FREQ=YEARLY;BYMONTH=10;BYDAY=-1SU
END:STANDARD
END:VTIMEZONE
BEGIN:VEVENT
SUMMARY:Shark Tank 9x12 - Episode 12
DTSTAMP:20171120T104136Z
SEQUENCE:0
UID:79034-2-841ebed20eb198c4569419e99b7bf40a@themidnightzone.com
ORGANIZER;CN="Midnight":midnight@themidnightzone.com
DESCRIPTION:In this episode\, an entrepreneur with a \"hate connection\"
	 apphopes to match with the Sharks\; coconut water is all therage\, and on
	e entrepreneur looks to bank on that with theirnew invention\; one entrepr
	eneur is hoping to help you reducechronic disease by doing your own lab wo
	rk\; and anentrepreneur duo may have just found your favorite breakfast on
	the go.
DTSTART:20171127T020000Z
DTEND:20171127T030000Z
END:VEVENT
END:VCALENDAR
