BEGIN:VCALENDAR
VERSION:2.0
PRODID:-//InvisionCommunity Events 4.7.23//EN
METHOD:PUBLISH
CALSCALE:GREGORIAN
REFRESH-INTERVAL:PT15M
X-PUBLISHED-TTL:PT15M
X-WR-CALNAME:At My TV
NAME:At My TV
BEGIN:VTIMEZONE
TZID:Europe/London
TZURL:http://tzurl.org/zoneinfo/Europe/London
X-LIC-LOCATION:Europe/London
BEGIN:DAYLIGHT
TZOFFSETFROM:+0000
TZOFFSETTO:+0100
TZNAME:BST
DTSTART:20170326T020000Z
RRULE:FREQ=YEARLY;BYMONTH=3;BYDAY=-1SU
END:DAYLIGHT
BEGIN:STANDARD
TZOFFSETFROM:+0100
TZOFFSETTO:+0000
TZNAME:GMT
DTSTART:20171029T020000Z
RRULE:FREQ=YEARLY;BYMONTH=10;BYDAY=-1SU
END:STANDARD
END:VTIMEZONE
BEGIN:VEVENT
SUMMARY:The Middle 9x9 - The 200th
DTSTAMP:20171122T104205Z
SEQUENCE:0
UID:79136-2-841ebed20eb198c4569419e99b7bf40a@themidnightzone.com
ORGANIZER;CN="Midnight":midnight@themidnightzone.com
DESCRIPTION:The Middle celebrates its milestone 200th episode! When Orso
	nis named as one of the top 200 most livable cities in Indiana\,Frankie is
	 reminded that she has to come up with something toplace in the time capsu
	le that will be buried in the base ofthe newly rededicated Orson Cow. Mean
	while\, when Bill Norwoodinforms Mike that he and Paula are separating\, M
	ike isgobsmacked and starts to appreciate Frankie more\; in order towin ba
	ck Cindy\, Brick must complete three acts of bravery forher\; and Axl volu
	nteers Sue to be his personal assistant toimpress prospective employers
DTSTART:20171206T010000Z
DTEND:20171206T013000Z
END:VEVENT
END:VCALENDAR
