BEGIN:VCALENDAR
VERSION:2.0
PRODID:-//InvisionCommunity Events 4.7.23//EN
METHOD:PUBLISH
CALSCALE:GREGORIAN
REFRESH-INTERVAL:PT15M
X-PUBLISHED-TTL:PT15M
X-WR-CALNAME:Pogdesign
NAME:Pogdesign
BEGIN:VTIMEZONE
TZID:Europe/London
TZURL:http://tzurl.org/zoneinfo/Europe/London
X-LIC-LOCATION:Europe/London
BEGIN:DAYLIGHT
TZOFFSETFROM:+0000
TZOFFSETTO:+0100
TZNAME:BST
DTSTART:20170326T020000Z
RRULE:FREQ=YEARLY;BYMONTH=3;BYDAY=-1SU
END:DAYLIGHT
BEGIN:STANDARD
TZOFFSETFROM:+0100
TZOFFSETTO:+0000
TZNAME:GMT
DTSTART:20171029T020000Z
RRULE:FREQ=YEARLY;BYMONTH=10;BYDAY=-1SU
END:STANDARD
END:VTIMEZONE
BEGIN:VEVENT
SUMMARY:Designated Survivor 2x9 - Three-Letter Day
DTSTAMP:20171123T064201Z
SEQUENCE:0
UID:79166-3-841ebed20eb198c4569419e99b7bf40a@themidnightzone.com
ORGANIZER;CN="Midnight":midnight@themidnightzone.com
DESCRIPTION:After sorting through thousands of letters all requestingsom
	ething of president\, the White House staff are assignedthree\, with Emily
	\, Seth\, Aaron\, Llyor and Kendra joiningforces to get answers and possib
	ly save a life. Meanwhile\,Hannah and Damian continue to chase down leads 
	to exonerate thefirst lady\, but in the end\, Hannah learns the truth may 
	becloser than she thinks.
DTSTART:20171206T220000Z
DTEND:20171206T230000Z
END:VEVENT
END:VCALENDAR
