BEGIN:VCALENDAR
VERSION:2.0
PRODID:-//InvisionCommunity Events 4.7.23//EN
METHOD:PUBLISH
CALSCALE:GREGORIAN
REFRESH-INTERVAL:PT15M
X-PUBLISHED-TTL:PT15M
X-WR-CALNAME:At My TV
NAME:At My TV
BEGIN:VTIMEZONE
TZID:Europe/London
TZURL:http://tzurl.org/zoneinfo/Europe/London
X-LIC-LOCATION:Europe/London
BEGIN:DAYLIGHT
TZOFFSETFROM:+0000
TZOFFSETTO:+0100
TZNAME:BST
DTSTART:20170326T020000Z
RRULE:FREQ=YEARLY;BYMONTH=3;BYDAY=-1SU
END:DAYLIGHT
BEGIN:STANDARD
TZOFFSETFROM:+0100
TZOFFSETTO:+0000
TZNAME:GMT
DTSTART:20171029T020000Z
RRULE:FREQ=YEARLY;BYMONTH=10;BYDAY=-1SU
END:STANDARD
END:VTIMEZONE
BEGIN:VEVENT
SUMMARY:Star 2x8 - A House Divided
DTSTAMP:20171123T104205Z
SEQUENCE:0
UID:79206-2-841ebed20eb198c4569419e99b7bf40a@themidnightzone.com
ORGANIZER;CN="Midnight":midnight@themidnightzone.com
DESCRIPTION:Although Carlotta enjoys spending more time with Maurice\, h
	erfamily remains her No. 1 priority and she'll let nothing stopher from pr
	otecting them. Meanwhile\, things don't go asplanned during an interview w
	ith radio hosts Headkrack and DaBrat\, which Midtown had arranged for its 
	artists to promotethe upcoming showcase. Also\, Elliot is eager to take hi
	srelationship with Cotton to the next level\, Jahil realizes heand Brody h
	ave a lot more in common than expected and the lovetriangle drama between 
	Noah\, Alex and Star intensifies.
DTSTART:20171207T020000Z
DTEND:20171207T030000Z
END:VEVENT
END:VCALENDAR
