BEGIN:VCALENDAR
VERSION:2.0
PRODID:-//InvisionCommunity Events 4.7.23//EN
METHOD:PUBLISH
CALSCALE:GREGORIAN
REFRESH-INTERVAL:PT15M
X-PUBLISHED-TTL:PT15M
X-WR-CALNAME:At My TV
NAME:At My TV
BEGIN:VTIMEZONE
TZID:Europe/London
TZURL:http://tzurl.org/zoneinfo/Europe/London
X-LIC-LOCATION:Europe/London
BEGIN:DAYLIGHT
TZOFFSETFROM:+0000
TZOFFSETTO:+0100
TZNAME:BST
DTSTART:20170326T020000Z
RRULE:FREQ=YEARLY;BYMONTH=3;BYDAY=-1SU
END:DAYLIGHT
BEGIN:STANDARD
TZOFFSETFROM:+0100
TZOFFSETTO:+0000
TZNAME:GMT
DTSTART:20171029T020000Z
RRULE:FREQ=YEARLY;BYMONTH=10;BYDAY=-1SU
END:STANDARD
END:VTIMEZONE
BEGIN:VEVENT
SUMMARY:Gotham 4x11 - A Dark Knight: Queen Takes Knight
DTSTAMP:20171124T104205Z
SEQUENCE:0
UID:79245-2-841ebed20eb198c4569419e99b7bf40a@themidnightzone.com
ORGANIZER;CN="Midnight":midnight@themidnightzone.com
DESCRIPTION:Things get complicated for Gordon\, Sophia and Penguin whenC
	armine Falcone comes to town. Alfred tries to get through toBruce once and
	 for all\, while Nygma struggles to gain controlover The Riddler persona a
	nd Tabitha attempts to make Grundyremember his past. Meanwhile\, a familia
	r smile resurfaces inGotham.
DTSTART:20171208T010000Z
DTEND:20171208T020000Z
END:VEVENT
END:VCALENDAR
