BEGIN:VCALENDAR
VERSION:2.0
PRODID:-//InvisionCommunity Events 4.7.23//EN
METHOD:PUBLISH
CALSCALE:GREGORIAN
REFRESH-INTERVAL:PT15M
X-PUBLISHED-TTL:PT15M
X-WR-CALNAME:At My TV
NAME:At My TV
BEGIN:VTIMEZONE
TZID:Europe/London
TZURL:http://tzurl.org/zoneinfo/Europe/London
X-LIC-LOCATION:Europe/London
BEGIN:DAYLIGHT
TZOFFSETFROM:+0000
TZOFFSETTO:+0100
TZNAME:BST
DTSTART:20170326T020000Z
RRULE:FREQ=YEARLY;BYMONTH=3;BYDAY=-1SU
END:DAYLIGHT
BEGIN:STANDARD
TZOFFSETFROM:+0100
TZOFFSETTO:+0000
TZNAME:GMT
DTSTART:20171029T020000Z
RRULE:FREQ=YEARLY;BYMONTH=10;BYDAY=-1SU
END:STANDARD
END:VTIMEZONE
BEGIN:VEVENT
SUMMARY:The Apprentice (UK) 13x10 - Fashion Show
DTSTAMP:20171125T104205Z
SEQUENCE:0
UID:79305-2-841ebed20eb198c4569419e99b7bf40a@themidnightzone.com
ORGANIZER;CN="Midnight":midnight@themidnightzone.com
DESCRIPTION:Lord Sugar tasks the candidates with becoming fashion agents
	\,selling garments for designers. They must select a designer\,plan and or
	ganise a catwalk show and put together a magazinecover to supplement their
	 sales campaign. One team's lack offashion sense leads to handbags at dawn
	\, and a no-frillsmagazine pitch ruffles a few feathers. A bad negotiation
	 leavesthe other team exposed\, and further embarrassment comes frommismat
	ched information about their chosen designer. In theboardroom\, Lord Sugar
	 decides who is no longer on trend.
DTSTART:20171206T210000Z
DTEND:20171206T220000Z
END:VEVENT
END:VCALENDAR
