BEGIN:VCALENDAR
VERSION:2.0
PRODID:-//InvisionCommunity Events 4.7.23//EN
METHOD:PUBLISH
CALSCALE:GREGORIAN
REFRESH-INTERVAL:PT15M
X-PUBLISHED-TTL:PT15M
X-WR-CALNAME:At My TV
NAME:At My TV
BEGIN:VTIMEZONE
TZID:Europe/London
TZURL:http://tzurl.org/zoneinfo/Europe/London
X-LIC-LOCATION:Europe/London
BEGIN:DAYLIGHT
TZOFFSETFROM:+0000
TZOFFSETTO:+0100
TZNAME:BST
DTSTART:20170326T020000Z
RRULE:FREQ=YEARLY;BYMONTH=3;BYDAY=-1SU
END:DAYLIGHT
BEGIN:STANDARD
TZOFFSETFROM:+0100
TZOFFSETTO:+0000
TZNAME:GMT
DTSTART:20171029T020000Z
RRULE:FREQ=YEARLY;BYMONTH=10;BYDAY=-1SU
END:STANDARD
END:VTIMEZONE
BEGIN:VEVENT
SUMMARY:Hells Kitchen (US) 17x9 - Catch of the Day
DTSTAMP:20171125T104206Z
SEQUENCE:0
UID:79312-2-841ebed20eb198c4569419e99b7bf40a@themidnightzone.com
ORGANIZER;CN="Midnight":midnight@themidnightzone.com
DESCRIPTION:Special guest judge and fish-cooking expert Chef MichaelCima
	rusti joins Chef Ramsay\, as the remaining contestantscompete in a special
	 challenge involving creatures of the sea.Then\, during dinner service\, t
	he chefs aim to impress a hostof VIP guests\, including actor Aleks Paunov
	ic\, rapper E-40\,professional dancer Cheryl Burke and actor Dan Bucatinsk
	y. Withtwo chefs fighting bitterly for authority and anotherstruggling to 
	communicate\, Chef Ramsay is less than pleased.Find out who doesn't make t
	he cut.
DTSTART:20171209T010000Z
DTEND:20171209T020000Z
END:VEVENT
END:VCALENDAR
