BEGIN:VCALENDAR
VERSION:2.0
PRODID:-//InvisionCommunity Events 4.7.23//EN
METHOD:PUBLISH
CALSCALE:GREGORIAN
REFRESH-INTERVAL:PT15M
X-PUBLISHED-TTL:PT15M
X-WR-CALNAME:At My TV
NAME:At My TV
BEGIN:VTIMEZONE
TZID:Europe/London
TZURL:http://tzurl.org/zoneinfo/Europe/London
X-LIC-LOCATION:Europe/London
BEGIN:DAYLIGHT
TZOFFSETFROM:+0000
TZOFFSETTO:+0100
TZNAME:BST
DTSTART:20170326T020000Z
RRULE:FREQ=YEARLY;BYMONTH=3;BYDAY=-1SU
END:DAYLIGHT
BEGIN:STANDARD
TZOFFSETFROM:+0100
TZOFFSETTO:+0000
TZNAME:GMT
DTSTART:20171029T020000Z
RRULE:FREQ=YEARLY;BYMONTH=10;BYDAY=-1SU
END:STANDARD
END:VTIMEZONE
BEGIN:VEVENT
SUMMARY:Saturday Night Live 43x8 - James Franco / SZA
DTSTAMP:20171129T104108Z
SEQUENCE:0
UID:79503-2-841ebed20eb198c4569419e99b7bf40a@themidnightzone.com
ORGANIZER;CN="Midnight":midnight@themidnightzone.com
DESCRIPTION:James Franco will return for a fourth time as host. Franco\,
	who currently appears in the HBO drama \"The Deuce\,\" produced\,directed 
	and stars in the upcoming film \"The Disaster Artist\,\"which opens Dec. 1
	 in limited release and Dec. 8nationwide.Accompanying Franco as musical gu
	est will be SZA.Her critically acclaimed album\, \"Ctrl\,\" debuted at #3 
	on theBillboard 200 chart and was certified gold by the RIAA.
DTSTART:20171210T042900Z
DTEND:20171210T055900Z
END:VEVENT
END:VCALENDAR
