BEGIN:VCALENDAR
VERSION:2.0
PRODID:-//InvisionCommunity Events 4.7.23//EN
METHOD:PUBLISH
CALSCALE:GREGORIAN
REFRESH-INTERVAL:PT15M
X-PUBLISHED-TTL:PT15M
X-WR-CALNAME:At My TV
NAME:At My TV
BEGIN:VTIMEZONE
TZID:Europe/London
TZURL:http://tzurl.org/zoneinfo/Europe/London
X-LIC-LOCATION:Europe/London
BEGIN:DAYLIGHT
TZOFFSETFROM:+0000
TZOFFSETTO:+0100
TZNAME:BST
DTSTART:20170326T020000Z
RRULE:FREQ=YEARLY;BYMONTH=3;BYDAY=-1SU
END:DAYLIGHT
BEGIN:STANDARD
TZOFFSETFROM:+0100
TZOFFSETTO:+0000
TZNAME:GMT
DTSTART:20171029T020000Z
RRULE:FREQ=YEARLY;BYMONTH=10;BYDAY=-1SU
END:STANDARD
END:VTIMEZONE
BEGIN:VEVENT
SUMMARY:Celebrity Juice 18x11 - Christmas Special
DTSTAMP:20171130T104106Z
SEQUENCE:0
UID:79550-2-841ebed20eb198c4569419e99b7bf40a@themidnightzone.com
ORGANIZER;CN="Midnight":midnight@themidnightzone.com
DESCRIPTION:Keith Lemon hosts the outrageous comedy panel show Christmas
	Special\, which sees team captains Holly Willoughby and FearneCotton going
	 head to head in a series of hilarious games\,alongside Celebrity Juice re
	gular Gino D'Acampo. Joining thepanel this week is actor and TV presenter 
	John Barrowman\,musician and songwriter Alex James\, TV personality and ac
	tressDenise Van Outen\, popular Kaiser Chief frontman Ricky Wilsonand Loos
	e Women host and singer Stacey Solomon.
DTSTART:20171214T220000Z
DTEND:20171214T225000Z
END:VEVENT
END:VCALENDAR
