BEGIN:VCALENDAR
VERSION:2.0
PRODID:-//InvisionCommunity Events 4.7.23//EN
METHOD:PUBLISH
CALSCALE:GREGORIAN
REFRESH-INTERVAL:PT15M
X-PUBLISHED-TTL:PT15M
X-WR-CALNAME:At My TV
NAME:At My TV
BEGIN:VTIMEZONE
TZID:Europe/London
TZURL:http://tzurl.org/zoneinfo/Europe/London
X-LIC-LOCATION:Europe/London
BEGIN:DAYLIGHT
TZOFFSETFROM:+0000
TZOFFSETTO:+0100
TZNAME:BST
DTSTART:20170326T020000Z
RRULE:FREQ=YEARLY;BYMONTH=3;BYDAY=-1SU
END:DAYLIGHT
BEGIN:STANDARD
TZOFFSETFROM:+0100
TZOFFSETTO:+0000
TZNAME:GMT
DTSTART:20171029T020000Z
RRULE:FREQ=YEARLY;BYMONTH=10;BYDAY=-1SU
END:STANDARD
END:VTIMEZONE
BEGIN:VEVENT
SUMMARY:Father Brown (2013) 6x1 - The Tree of Truth
DTSTAMP:20171204T104106Z
SEQUENCE:0
UID:79735-2-841ebed20eb198c4569419e99b7bf40a@themidnightzone.com
ORGANIZER;CN="Midnight":midnight@themidnightzone.com
DESCRIPTION:Father Brown attempts to overturn a miscarriage of justicewh
	ile rehearsing for the Kembleford Christmas pantomime.It'sDecember\, and F
	ather Brown\, Mrs McCarthy and Bunty arevisited by an old friend as they m
	ake mince pies and decoratethe presbytery. Sid has returned for Christmas\
	, bearing giftsfrom Lady Felicia. Meanwhile as locals walk through the woo
	ds\,a dog uncovers a partially skeletonised hand in the coldground. The bo
	dy is identified as Scarlett Dreyfuss\, a womanreported missing after the 
	dress rehearsal of Red Riding Hoodin 1946\, throwing open a seven year-old
	 case.
DTSTART:20171218T134500Z
DTEND:20171218T143000Z
END:VEVENT
END:VCALENDAR
