BEGIN:VCALENDAR
VERSION:2.0
PRODID:-//InvisionCommunity Events 4.7.23//EN
METHOD:PUBLISH
CALSCALE:GREGORIAN
REFRESH-INTERVAL:PT15M
X-PUBLISHED-TTL:PT15M
X-WR-CALNAME:At My TV
NAME:At My TV
BEGIN:VTIMEZONE
TZID:Europe/London
TZURL:http://tzurl.org/zoneinfo/Europe/London
X-LIC-LOCATION:Europe/London
BEGIN:DAYLIGHT
TZOFFSETFROM:+0000
TZOFFSETTO:+0100
TZNAME:BST
DTSTART:20170326T020000Z
RRULE:FREQ=YEARLY;BYMONTH=3;BYDAY=-1SU
END:DAYLIGHT
BEGIN:STANDARD
TZOFFSETFROM:+0100
TZOFFSETTO:+0000
TZNAME:GMT
DTSTART:20171029T020000Z
RRULE:FREQ=YEARLY;BYMONTH=10;BYDAY=-1SU
END:STANDARD
END:VTIMEZONE
BEGIN:VEVENT
SUMMARY:Madam Secretary 4x10 - Women Transform the World
DTSTAMP:20171204T104106Z
SEQUENCE:0
UID:79741-2-841ebed20eb198c4569419e99b7bf40a@themidnightzone.com
ORGANIZER;CN="Midnight":midnight@themidnightzone.com
DESCRIPTION:Secretary of State McCord struggles with the realization tha
	tshe may need to advise the Afghan government that a compromisewith the Ta
	liban may be better than a war with them. Also\,Henry uses Dmitri as bait 
	to convince a Russian spy to help theU.S.\, and Daisy returns from materni
	ty leave and decides tofinally tell Joe's mother about the baby.
DTSTART:20171218T033000Z
DTEND:20171218T043000Z
END:VEVENT
END:VCALENDAR
