BEGIN:VCALENDAR
VERSION:2.0
PRODID:-//InvisionCommunity Events 4.7.23//EN
METHOD:PUBLISH
CALSCALE:GREGORIAN
REFRESH-INTERVAL:PT15M
X-PUBLISHED-TTL:PT15M
X-WR-CALNAME:At My TV
NAME:At My TV
BEGIN:VTIMEZONE
TZID:Europe/London
TZURL:http://tzurl.org/zoneinfo/Europe/London
X-LIC-LOCATION:Europe/London
BEGIN:DAYLIGHT
TZOFFSETFROM:+0000
TZOFFSETTO:+0100
TZNAME:BST
DTSTART:20170326T020000Z
RRULE:FREQ=YEARLY;BYMONTH=3;BYDAY=-1SU
END:DAYLIGHT
BEGIN:STANDARD
TZOFFSETFROM:+0100
TZOFFSETTO:+0000
TZNAME:GMT
DTSTART:20171029T020000Z
RRULE:FREQ=YEARLY;BYMONTH=10;BYDAY=-1SU
END:STANDARD
END:VTIMEZONE
BEGIN:VEVENT
SUMMARY:The Grand Tour 2x3 - Bah humbug-atti
DTSTAMP:20171209T104105Z
SEQUENCE:0
UID:79922-2-841ebed20eb198c4569419e99b7bf40a@themidnightzone.com
ORGANIZER;CN="Midnight":midnight@themidnightzone.com
DESCRIPTION:In this episode\, Jeremy Clarkson asks if Europe's glamour s
	etstill need their jets and helicopters or if they'd be betteroff with a c
	ar: the new\, 1479 horsepower Bugatti Chiron withan epic cross-Europe dash
	. James May tests if the new KiaStinger GT is faster than gravity itself w
	ith a race againstsome skateboarders. Plus May joins Richard Hammond to re
	lievethe boredom of office lunchtimes with the all-new sport of carpark ra
	cing. In Celebrity Face Off actor Hugh Bonneville goesagainst naturalist C
	asey Anderson to find the world's fastestperson who lives with a bear.
DTSTART:20171222T050000Z
DTEND:20171222T060000Z
END:VEVENT
END:VCALENDAR
