BEGIN:VCALENDAR
VERSION:2.0
PRODID:-//InvisionCommunity Events 4.7.23//EN
METHOD:PUBLISH
CALSCALE:GREGORIAN
REFRESH-INTERVAL:PT15M
X-PUBLISHED-TTL:PT15M
X-WR-CALNAME:At My TV
NAME:At My TV
BEGIN:VTIMEZONE
TZID:Europe/London
TZURL:http://tzurl.org/zoneinfo/Europe/London
X-LIC-LOCATION:Europe/London
BEGIN:DAYLIGHT
TZOFFSETFROM:+0000
TZOFFSETTO:+0100
TZNAME:BST
DTSTART:20180325T020000Z
RRULE:FREQ=YEARLY;BYMONTH=3;BYDAY=-1SU
END:DAYLIGHT
BEGIN:STANDARD
TZOFFSETFROM:+0100
TZOFFSETTO:+0000
TZNAME:GMT
DTSTART:20181028T020000Z
RRULE:FREQ=YEARLY;BYMONTH=10;BYDAY=-1SU
END:STANDARD
END:VTIMEZONE
BEGIN:VEVENT
SUMMARY:Mrs Brown's Boys 3x7 - New Year Special
DTSTAMP:20171218T104106Z
SEQUENCE:0
UID:80126-2-841ebed20eb198c4569419e99b7bf40a@themidnightzone.com
ORGANIZER;CN="Midnight":midnight@themidnightzone.com
DESCRIPTION:Father Damien convenes a Neighbourhood Watch patrol to tackl
	ethe rising amount of crime in Finglas\, but catching criminalsisn't neces
	sarily something Agnes and Winnie are cut out todo.Meanwhile Cathy has had
	 yet another disastrous internetdate\, so Agnes takes some unorthodox step
	s to put herdaughter's man troubles to rest once and for all.
DTSTART:20180101T220000Z
DTEND:20180101T223000Z
END:VEVENT
END:VCALENDAR
