BEGIN:VCALENDAR
VERSION:2.0
PRODID:-//InvisionCommunity Events 4.7.23//EN
METHOD:PUBLISH
CALSCALE:GREGORIAN
REFRESH-INTERVAL:PT15M
X-PUBLISHED-TTL:PT15M
X-WR-CALNAME:At My TV
NAME:At My TV
BEGIN:VTIMEZONE
TZID:Europe/London
TZURL:http://tzurl.org/zoneinfo/Europe/London
X-LIC-LOCATION:Europe/London
BEGIN:DAYLIGHT
TZOFFSETFROM:+0000
TZOFFSETTO:+0100
TZNAME:BST
DTSTART:20180325T020000Z
RRULE:FREQ=YEARLY;BYMONTH=3;BYDAY=-1SU
END:DAYLIGHT
BEGIN:STANDARD
TZOFFSETFROM:+0100
TZOFFSETTO:+0000
TZNAME:GMT
DTSTART:20181028T020000Z
RRULE:FREQ=YEARLY;BYMONTH=10;BYDAY=-1SU
END:STANDARD
END:VTIMEZONE
BEGIN:VEVENT
SUMMARY:Better Late Than Never 2x2 - Sweden - I'm a Viking!
DTSTAMP:20171219T104105Z
SEQUENCE:0
UID:80147-2-841ebed20eb198c4569419e99b7bf40a@themidnightzone.com
ORGANIZER;CN="Midnight":midnight@themidnightzone.com
DESCRIPTION:A search of Terry's Viking roots uncovers a \"Viking Island\
	"that leads to a series of challenges that aren't for the faintof heart. B
	ut it's not all fun and games when the friends areconfronted with the worl
	d's smelliest dish and a strictetiquette class that turns into a complete 
	disaster. George\,the world's biggest ABBA fan\, gets the surprise of a li
	fetimeby meeting founding member Bjorn.
DTSTART:20180102T020000Z
DTEND:20180102T030000Z
END:VEVENT
END:VCALENDAR
