BEGIN:VCALENDAR
VERSION:2.0
PRODID:-//InvisionCommunity Events 4.7.23//EN
METHOD:PUBLISH
CALSCALE:GREGORIAN
REFRESH-INTERVAL:PT15M
X-PUBLISHED-TTL:PT15M
X-WR-CALNAME:At My TV
NAME:At My TV
BEGIN:VTIMEZONE
TZID:Europe/London
TZURL:http://tzurl.org/zoneinfo/Europe/London
X-LIC-LOCATION:Europe/London
BEGIN:DAYLIGHT
TZOFFSETFROM:+0000
TZOFFSETTO:+0100
TZNAME:BST
DTSTART:20180325T020000Z
RRULE:FREQ=YEARLY;BYMONTH=3;BYDAY=-1SU
END:DAYLIGHT
BEGIN:STANDARD
TZOFFSETFROM:+0100
TZOFFSETTO:+0000
TZNAME:GMT
DTSTART:20181028T020000Z
RRULE:FREQ=YEARLY;BYMONTH=10;BYDAY=-1SU
END:STANDARD
END:VTIMEZONE
BEGIN:VEVENT
SUMMARY:Chopped 36x4 - Mardi Gras Goals
DTSTAMP:20171220T104105Z
SEQUENCE:0
UID:80184-2-841ebed20eb198c4569419e99b7bf40a@themidnightzone.com
ORGANIZER;CN="Midnight":midnight@themidnightzone.com
DESCRIPTION:Get ready for some culinary revelry as four New Orleans chef
	stake on a Mardi Gras competition! The baskets are packed withperennial NO
	LA favorites\, including po' boys in the appetizerround. The judges hope n
	one of the competitors ruin the roux inthe second basket\, and a tradition
	al cake and a boozy coffeechallenge the final two chefs in dessert.
DTSTART:20180207T030000Z
DTEND:20180207T040000Z
END:VEVENT
END:VCALENDAR
