BEGIN:VCALENDAR
VERSION:2.0
PRODID:-//InvisionCommunity Events 4.7.23//EN
METHOD:PUBLISH
CALSCALE:GREGORIAN
REFRESH-INTERVAL:PT15M
X-PUBLISHED-TTL:PT15M
X-WR-CALNAME:At My TV
NAME:At My TV
BEGIN:VTIMEZONE
TZID:Europe/London
TZURL:http://tzurl.org/zoneinfo/Europe/London
X-LIC-LOCATION:Europe/London
BEGIN:DAYLIGHT
TZOFFSETFROM:+0000
TZOFFSETTO:+0100
TZNAME:BST
DTSTART:20180325T020000Z
RRULE:FREQ=YEARLY;BYMONTH=3;BYDAY=-1SU
END:DAYLIGHT
BEGIN:STANDARD
TZOFFSETFROM:+0100
TZOFFSETTO:+0000
TZNAME:GMT
DTSTART:20181028T020000Z
RRULE:FREQ=YEARLY;BYMONTH=10;BYDAY=-1SU
END:STANDARD
END:VTIMEZONE
BEGIN:VEVENT
SUMMARY:Fresh Off the Boat 4x11 - Big Baby
DTSTAMP:20171220T104105Z
SEQUENCE:0
UID:80186-2-841ebed20eb198c4569419e99b7bf40a@themidnightzone.com
ORGANIZER;CN="Midnight":midnight@themidnightzone.com
DESCRIPTION:Honey is excited to attend a parenting class that encourages
	moms to listen to their babies taught by self-proclaimed childsage\, Wilhe
	lmina Page\, but when her mother\, Anne\, ridiculesthe idea\, it exposes c
	ommunication issues of their own. WhenHoney turns to Jessica for support\,
	 she is disappointed tofind that even her best friend doesn't have her bac
	k.Meanwhile\, Louis and Marvin are thrilled when they get to goon the free
	 cruise their wives won on \"Wheel of Fortune\,\" buttheir boys' trip quic
	kly turns into a gambling getaway gonesouth. Back in Orlando\, Eddie's fri
	ends are wary of his newcrush at school.
DTSTART:20180103T013000Z
DTEND:20180103T020000Z
END:VEVENT
END:VCALENDAR
