BEGIN:VCALENDAR
VERSION:2.0
PRODID:-//InvisionCommunity Events 4.7.23//EN
METHOD:PUBLISH
CALSCALE:GREGORIAN
REFRESH-INTERVAL:PT15M
X-PUBLISHED-TTL:PT15M
X-WR-CALNAME:At My TV
NAME:At My TV
BEGIN:VTIMEZONE
TZID:Europe/London
TZURL:http://tzurl.org/zoneinfo/Europe/London
X-LIC-LOCATION:Europe/London
BEGIN:DAYLIGHT
TZOFFSETFROM:+0000
TZOFFSETTO:+0100
TZNAME:BST
DTSTART:20180325T020000Z
RRULE:FREQ=YEARLY;BYMONTH=3;BYDAY=-1SU
END:DAYLIGHT
BEGIN:STANDARD
TZOFFSETFROM:+0100
TZOFFSETTO:+0000
TZNAME:GMT
DTSTART:20181028T020000Z
RRULE:FREQ=YEARLY;BYMONTH=10;BYDAY=-1SU
END:STANDARD
END:VTIMEZONE
BEGIN:VEVENT
SUMMARY:Kevin (Probably) Saves the World 1x10 - The Ugly Sleep
DTSTAMP:20171220T104106Z
SEQUENCE:0
UID:80188-2-841ebed20eb198c4569419e99b7bf40a@themidnightzone.com
ORGANIZER;CN="Midnight":midnight@themidnightzone.com
DESCRIPTION:Reveling in his success after finding the first righteoussou
	l\, Kevin attempts to help a man start dating again after abad break-up. M
	eanwhile\, inspired by Kevin's good deeds\,Reese befriends the new girl at
	 school. Yvette becomesconcerned by Tyler's desperate search to reconnect 
	with themysterious lady he met in Laos\, and Amy finally finds thecourage 
	to ask Nate out on a date.
DTSTART:20180103T030000Z
DTEND:20180103T040000Z
END:VEVENT
END:VCALENDAR
