BEGIN:VCALENDAR
VERSION:2.0
PRODID:-//InvisionCommunity Events 4.7.23//EN
METHOD:PUBLISH
CALSCALE:GREGORIAN
REFRESH-INTERVAL:PT15M
X-PUBLISHED-TTL:PT15M
X-WR-CALNAME:At My TV
NAME:At My TV
BEGIN:VTIMEZONE
TZID:Europe/London
TZURL:http://tzurl.org/zoneinfo/Europe/London
X-LIC-LOCATION:Europe/London
BEGIN:DAYLIGHT
TZOFFSETFROM:+0000
TZOFFSETTO:+0100
TZNAME:BST
DTSTART:20180325T020000Z
RRULE:FREQ=YEARLY;BYMONTH=3;BYDAY=-1SU
END:DAYLIGHT
BEGIN:STANDARD
TZOFFSETFROM:+0100
TZOFFSETTO:+0000
TZNAME:GMT
DTSTART:20181028T020000Z
RRULE:FREQ=YEARLY;BYMONTH=10;BYDAY=-1SU
END:STANDARD
END:VTIMEZONE
BEGIN:VEVENT
SUMMARY:Man\, Fire\, Food 7x1 - Fire Festivals
DTSTAMP:20171221T104105Z
SEQUENCE:0
UID:80231-2-841ebed20eb198c4569419e99b7bf40a@themidnightzone.com
ORGANIZER;CN="Midnight":midnight@themidnightzone.com
DESCRIPTION:Join the party as Roger Mooking visits three of the greatest
	fire-roasted ragers that cook mountains of meat and keep thebarbecue faith
	ful lining up for more. First\, it's all hands ondeck in Owensboro\, Ky.\,
	 for a church picnic with nearly fourtons of meat and a crowd of 4\,000 ca
	rnivores. Then\, he headsto a Wisconsin winery where they've built a contr
	aption toroast an entire 1\,200-pound steer for their annual celebrationof
	 beer\, wine and beef. Finally\, Roger makes waves in NewEngland at a 70-y
	ear-old fish festival\, sculpting a scorching12-foot ring of fire for over
	 300 pounds of shad on uprightboards.
DTSTART:20180104T020000Z
DTEND:20180104T023000Z
END:VEVENT
END:VCALENDAR
