BEGIN:VCALENDAR
VERSION:2.0
PRODID:-//InvisionCommunity Events 4.7.23//EN
METHOD:PUBLISH
CALSCALE:GREGORIAN
REFRESH-INTERVAL:PT15M
X-PUBLISHED-TTL:PT15M
X-WR-CALNAME:At My TV
NAME:At My TV
BEGIN:VTIMEZONE
TZID:Europe/London
TZURL:http://tzurl.org/zoneinfo/Europe/London
X-LIC-LOCATION:Europe/London
BEGIN:DAYLIGHT
TZOFFSETFROM:+0000
TZOFFSETTO:+0100
TZNAME:BST
DTSTART:20180325T020000Z
RRULE:FREQ=YEARLY;BYMONTH=3;BYDAY=-1SU
END:DAYLIGHT
BEGIN:STANDARD
TZOFFSETFROM:+0100
TZOFFSETTO:+0000
TZNAME:GMT
DTSTART:20181028T020000Z
RRULE:FREQ=YEARLY;BYMONTH=10;BYDAY=-1SU
END:STANDARD
END:VTIMEZONE
BEGIN:VEVENT
SUMMARY:Speechless 2x11 - N-e-- New Y-- Year's E-- Eve
DTSTAMP:20171221T104106Z
SEQUENCE:0
UID:80237-2-841ebed20eb198c4569419e99b7bf40a@themidnightzone.com
ORGANIZER;CN="Midnight":midnight@themidnightzone.com
DESCRIPTION:Jimmy convinces Maya to go on a much-needed night out togeth
	erwhere they drink through Maya's urge to rush home to the kids.Back at th
	e house\, Ray and Kenneth avoid being alone withtheir dates\, while JJ\, s
	idelined by a broken wheelchair\,ends up getting more excitement than he e
	xpected. Meanwhile\,Dylan spends her night trying to win the affection of 
	the newfamily dog
DTSTART:20180104T013000Z
DTEND:20180104T020000Z
END:VEVENT
END:VCALENDAR
