BEGIN:VCALENDAR
VERSION:2.0
PRODID:-//InvisionCommunity Events 4.7.23//EN
METHOD:PUBLISH
CALSCALE:GREGORIAN
REFRESH-INTERVAL:PT15M
X-PUBLISHED-TTL:PT15M
X-WR-CALNAME:At My TV
NAME:At My TV
BEGIN:VTIMEZONE
TZID:Europe/London
TZURL:http://tzurl.org/zoneinfo/Europe/London
X-LIC-LOCATION:Europe/London
BEGIN:DAYLIGHT
TZOFFSETFROM:+0000
TZOFFSETTO:+0100
TZNAME:BST
DTSTART:20180325T020000Z
RRULE:FREQ=YEARLY;BYMONTH=3;BYDAY=-1SU
END:DAYLIGHT
BEGIN:STANDARD
TZOFFSETFROM:+0100
TZOFFSETTO:+0000
TZNAME:GMT
DTSTART:20181028T020000Z
RRULE:FREQ=YEARLY;BYMONTH=10;BYDAY=-1SU
END:STANDARD
END:VTIMEZONE
BEGIN:VEVENT
SUMMARY:Chicago Fire 6x7 - A Man's Legacy
DTSTAMP:20171222T104105Z
SEQUENCE:0
UID:80263-2-841ebed20eb198c4569419e99b7bf40a@themidnightzone.com
ORGANIZER;CN="Midnight":midnight@themidnightzone.com
DESCRIPTION:Brett attempts to make a lifesaving decision in the field to
	someone near and dear to the firehouse family. In an effort toimpress Lily
	\, Otis scrambles to get everything together forthe grand opening of Molly
	's North. Meanwhile\, Boden becomesemotional following the rescue of a fam
	ous blues player from aburning apartment building and Dawson struggles to 
	come toterms with how she has been dealing with her father.
DTSTART:20180105T030000Z
DTEND:20180105T040000Z
END:VEVENT
END:VCALENDAR
