BEGIN:VCALENDAR
VERSION:2.0
PRODID:-//InvisionCommunity Events 4.7.23//EN
METHOD:PUBLISH
CALSCALE:GREGORIAN
REFRESH-INTERVAL:PT15M
X-PUBLISHED-TTL:PT15M
X-WR-CALNAME:At My TV
NAME:At My TV
BEGIN:VTIMEZONE
TZID:Europe/London
TZURL:http://tzurl.org/zoneinfo/Europe/London
X-LIC-LOCATION:Europe/London
BEGIN:DAYLIGHT
TZOFFSETFROM:+0000
TZOFFSETTO:+0100
TZNAME:BST
DTSTART:20180325T020000Z
RRULE:FREQ=YEARLY;BYMONTH=3;BYDAY=-1SU
END:DAYLIGHT
BEGIN:STANDARD
TZOFFSETFROM:+0100
TZOFFSETTO:+0000
TZNAME:GMT
DTSTART:20181028T020000Z
RRULE:FREQ=YEARLY;BYMONTH=10;BYDAY=-1SU
END:STANDARD
END:VTIMEZONE
BEGIN:VEVENT
SUMMARY:Great News 2x10 - Catfight
DTSTAMP:20171222T104105Z
SEQUENCE:0
UID:80267-2-841ebed20eb198c4569419e99b7bf40a@themidnightzone.com
ORGANIZER;CN="Midnight":midnight@themidnightzone.com
DESCRIPTION:Frustrated by Greg and Katie's adorable office flirtation\,C
	arol invites Greg's girlfriend\, Cat\, to work in an attemptto show Katie 
	her competition and get her to admit her feelingsfor her boss. But Carol's
	 plan backfires when she is won overby Cat's charms\, sending Katie into a
	 jealous spiral.Meanwhile\, Chuck finds himself an unwitting champion of t
	healt-right.
DTSTART:20180105T023000Z
DTEND:20180105T030000Z
END:VEVENT
END:VCALENDAR
