BEGIN:VCALENDAR
VERSION:2.0
PRODID:-//InvisionCommunity Events 4.7.23//EN
METHOD:PUBLISH
CALSCALE:GREGORIAN
REFRESH-INTERVAL:PT15M
X-PUBLISHED-TTL:PT15M
X-WR-CALNAME:At My TV
NAME:At My TV
BEGIN:VTIMEZONE
TZID:Europe/London
TZURL:http://tzurl.org/zoneinfo/Europe/London
X-LIC-LOCATION:Europe/London
BEGIN:DAYLIGHT
TZOFFSETFROM:+0000
TZOFFSETTO:+0100
TZNAME:BST
DTSTART:20170326T020000Z
RRULE:FREQ=YEARLY;BYMONTH=3;BYDAY=-1SU
END:DAYLIGHT
BEGIN:STANDARD
TZOFFSETFROM:+0100
TZOFFSETTO:+0000
TZNAME:GMT
DTSTART:20171029T020000Z
RRULE:FREQ=YEARLY;BYMONTH=10;BYDAY=-1SU
END:STANDARD
END:VTIMEZONE
BEGIN:VEVENT
SUMMARY:American Dad! 14x1 - Santa\, Schmanta
DTSTAMP:20171224T104103Z
SEQUENCE:0
UID:80319-2-841ebed20eb198c4569419e99b7bf40a@themidnightzone.com
ORGANIZER;CN="Midnight":midnight@themidnightzone.com
DESCRIPTION:When the Smiths are too busy preparing for Christmas to paya
	ttention to Roger\, Roger turns his attention to Steve'sfriend Snot. Snot 
	teaches Roger about Hanukkah\, promptingRoger to convert to Judaism. Roger
	 then decides that he canmake Hanukkah more popular than Christmas by stea
	ling SantaClaus' powers and becoming Schmanta Claus. But\, being Roger\,he
	 abuses his new Schmanta powers leading the Smiths and Snotto find the rea
	l Santa Claus in an attempt to take down Roger.
DTSTART:20171226T030000Z
DTEND:20171226T033000Z
END:VEVENT
END:VCALENDAR
