BEGIN:VCALENDAR
VERSION:2.0
PRODID:-//InvisionCommunity Events 4.7.23//EN
METHOD:PUBLISH
CALSCALE:GREGORIAN
REFRESH-INTERVAL:PT15M
X-PUBLISHED-TTL:PT15M
X-WR-CALNAME:At My TV
NAME:At My TV
BEGIN:VTIMEZONE
TZID:Europe/London
TZURL:http://tzurl.org/zoneinfo/Europe/London
X-LIC-LOCATION:Europe/London
BEGIN:DAYLIGHT
TZOFFSETFROM:+0000
TZOFFSETTO:+0100
TZNAME:BST
DTSTART:20180325T020000Z
RRULE:FREQ=YEARLY;BYMONTH=3;BYDAY=-1SU
END:DAYLIGHT
BEGIN:STANDARD
TZOFFSETFROM:+0100
TZOFFSETTO:+0000
TZNAME:GMT
DTSTART:20181028T020000Z
RRULE:FREQ=YEARLY;BYMONTH=10;BYDAY=-1SU
END:STANDARD
END:VTIMEZONE
BEGIN:VEVENT
SUMMARY:Silent Witness 21x1 - Moment Of Surrender - Part One
DTSTAMP:20171225T104104Z
SEQUENCE:0
UID:80363-2-841ebed20eb198c4569419e99b7bf40a@themidnightzone.com
ORGANIZER;CN="Midnight":midnight@themidnightzone.com
DESCRIPTION:Haunted by her experiences in Mexico\, Nikki Alexander isstr
	uggling to come to terms with life back home.Whilst on leaveshe seeks out 
	fellow pathologist Sally Vaughan (Emma Fielding)for support. However\, a f
	ew days later and troubled by thefailure of Sally to return her calls\, Ni
	kki heads to her houseonly to find that it has become a crime scene and Sa
	lly isnowhere to be found.
DTSTART:20180108T210000Z
DTEND:20180108T220000Z
END:VEVENT
END:VCALENDAR
