BEGIN:VCALENDAR
VERSION:2.0
PRODID:-//InvisionCommunity Events 4.7.23//EN
METHOD:PUBLISH
CALSCALE:GREGORIAN
REFRESH-INTERVAL:PT15M
X-PUBLISHED-TTL:PT15M
X-WR-CALNAME:At My TV
NAME:At My TV
BEGIN:VTIMEZONE
TZID:Europe/London
TZURL:http://tzurl.org/zoneinfo/Europe/London
X-LIC-LOCATION:Europe/London
BEGIN:DAYLIGHT
TZOFFSETFROM:+0000
TZOFFSETTO:+0100
TZNAME:BST
DTSTART:20180325T020000Z
RRULE:FREQ=YEARLY;BYMONTH=3;BYDAY=-1SU
END:DAYLIGHT
BEGIN:STANDARD
TZOFFSETFROM:+0100
TZOFFSETTO:+0000
TZNAME:GMT
DTSTART:20181028T020000Z
RRULE:FREQ=YEARLY;BYMONTH=10;BYDAY=-1SU
END:STANDARD
END:VTIMEZONE
BEGIN:VEVENT
SUMMARY:Better Late Than Never 2x4 - Berlin - How Do You Say Roots i
	nGerman?
DTSTAMP:20171226T104106Z
SEQUENCE:0
UID:80382-2-841ebed20eb198c4569419e99b7bf40a@themidnightzone.com
ORGANIZER;CN="Midnight":midnight@themidnightzone.com
DESCRIPTION:The guys head to Berlin in the hopes of finding Henry's root
	s.Along the way\, they check into a communist hotel\, meet abear\, visit t
	he Berlin wall\, have a surprise run in with AlRoker and are treated to a 
	special performance from DavidHasselhoff. Later\, Henry makes a powerful d
	iscovery about hisfamily's past that changes his life forever.
DTSTART:20180109T020000Z
DTEND:20180109T030000Z
END:VEVENT
END:VCALENDAR
