BEGIN:VCALENDAR
VERSION:2.0
PRODID:-//InvisionCommunity Events 4.7.23//EN
METHOD:PUBLISH
CALSCALE:GREGORIAN
REFRESH-INTERVAL:PT15M
X-PUBLISHED-TTL:PT15M
X-WR-CALNAME:At My TV
NAME:At My TV
BEGIN:VTIMEZONE
TZID:Europe/London
TZURL:http://tzurl.org/zoneinfo/Europe/London
X-LIC-LOCATION:Europe/London
BEGIN:DAYLIGHT
TZOFFSETFROM:+0000
TZOFFSETTO:+0100
TZNAME:BST
DTSTART:20180325T020000Z
RRULE:FREQ=YEARLY;BYMONTH=3;BYDAY=-1SU
END:DAYLIGHT
BEGIN:STANDARD
TZOFFSETFROM:+0100
TZOFFSETTO:+0000
TZNAME:GMT
DTSTART:20181028T020000Z
RRULE:FREQ=YEARLY;BYMONTH=10;BYDAY=-1SU
END:STANDARD
END:VTIMEZONE
BEGIN:VEVENT
SUMMARY:Chicago Med 3x6 - Ties That Bind
DTSTAMP:20171227T104105Z
SEQUENCE:0
UID:80412-2-841ebed20eb198c4569419e99b7bf40a@themidnightzone.com
ORGANIZER;CN="Midnight":midnight@themidnightzone.com
DESCRIPTION:Ethan attempts to diagnose a man with no symptoms while Sara
	h'sparanoia goes to the extreme when she uses pepper spray on anaggressive
	 patient. Will treats a young couple willing tosacrifice anything in order
	 to have a baby. Meanwhile\, Nataliemust inform a woman that she was steri
	lized as a young girlwithout knowledge\, and Goodwin and Maggie devise a w
	ay topersuade paramedics to bring in more patients.
DTSTART:20180110T030000Z
DTEND:20180110T040000Z
END:VEVENT
END:VCALENDAR
