BEGIN:VCALENDAR
VERSION:2.0
PRODID:-//InvisionCommunity Events 4.7.23//EN
METHOD:PUBLISH
CALSCALE:GREGORIAN
REFRESH-INTERVAL:PT15M
X-PUBLISHED-TTL:PT15M
X-WR-CALNAME:At My TV
NAME:At My TV
BEGIN:VTIMEZONE
TZID:Europe/London
TZURL:http://tzurl.org/zoneinfo/Europe/London
X-LIC-LOCATION:Europe/London
BEGIN:DAYLIGHT
TZOFFSETFROM:+0000
TZOFFSETTO:+0100
TZNAME:BST
DTSTART:20180325T020000Z
RRULE:FREQ=YEARLY;BYMONTH=3;BYDAY=-1SU
END:DAYLIGHT
BEGIN:STANDARD
TZOFFSETFROM:+0100
TZOFFSETTO:+0000
TZNAME:GMT
DTSTART:20181028T020000Z
RRULE:FREQ=YEARLY;BYMONTH=10;BYDAY=-1SU
END:STANDARD
END:VTIMEZONE
BEGIN:VEVENT
SUMMARY:The Goldbergs (2013) 5x12 - Dinner with the Goldbergs
DTSTAMP:20171228T104107Z
SEQUENCE:0
UID:80459-2-841ebed20eb198c4569419e99b7bf40a@themidnightzone.com
ORGANIZER;CN="Midnight":midnight@themidnightzone.com
DESCRIPTION:Erica warns Geoff about going to dinner with her family toce
	lebrate her birthday\, but he insists. Upon arrival\, it'sapparent this wi
	ll be no ordinary dinner out: The familychanges tables multiple times\, Be
	verly sends her food back\,Murray insists Adam order off the children's me
	nu and Barrywants to change his order\, but it's too late. By evening'send
	\, Geoff hits his breaking point.
DTSTART:20180111T010000Z
DTEND:20180111T013000Z
END:VEVENT
END:VCALENDAR
