BEGIN:VCALENDAR
VERSION:2.0
PRODID:-//InvisionCommunity Events 4.7.23//EN
METHOD:PUBLISH
CALSCALE:GREGORIAN
REFRESH-INTERVAL:PT15M
X-PUBLISHED-TTL:PT15M
X-WR-CALNAME:At My TV
NAME:At My TV
BEGIN:VTIMEZONE
TZID:Europe/London
TZURL:http://tzurl.org/zoneinfo/Europe/London
X-LIC-LOCATION:Europe/London
BEGIN:DAYLIGHT
TZOFFSETFROM:+0000
TZOFFSETTO:+0100
TZNAME:BST
DTSTART:20180325T020000Z
RRULE:FREQ=YEARLY;BYMONTH=3;BYDAY=-1SU
END:DAYLIGHT
BEGIN:STANDARD
TZOFFSETFROM:+0100
TZOFFSETTO:+0000
TZNAME:GMT
DTSTART:20181028T020000Z
RRULE:FREQ=YEARLY;BYMONTH=10;BYDAY=-1SU
END:STANDARD
END:VTIMEZONE
BEGIN:VEVENT
SUMMARY:Saturday Night Live 43x10 - Sam Rockwell / Halsey
DTSTAMP:20171231T104105Z
SEQUENCE:0
UID:80586-2-841ebed20eb198c4569419e99b7bf40a@themidnightzone.com
ORGANIZER;CN="Midnight":midnight@themidnightzone.com
DESCRIPTION:Golden Globe winner Sam Rockwell will make his hosting debut
	when \"Saturday Night Live\" returns for the new year. His latestfilm\, th
	e Globe-winning \"Three Billboards Outside Ebbing\,Missouri\,\" opened Nov
	. 10 and also stars Globe winner FrancesMcDormand and Woody Harrelson.Hals
	ey will join Rockwell\, whois also marking her debut as musical guest. Hal
	sey's latestalbum\, \"hopeless fountain kingdom\,\" was released in June a
	ndpeaked at #1 on the U.S. Billboard 200 chart.
DTSTART:20180114T042900Z
DTEND:20180114T055900Z
END:VEVENT
END:VCALENDAR
