BEGIN:VCALENDAR
VERSION:2.0
PRODID:-//InvisionCommunity Events 4.7.23//EN
METHOD:PUBLISH
CALSCALE:GREGORIAN
REFRESH-INTERVAL:PT15M
X-PUBLISHED-TTL:PT15M
X-WR-CALNAME:At My TV
NAME:At My TV
BEGIN:VTIMEZONE
TZID:Europe/London
TZURL:http://tzurl.org/zoneinfo/Europe/London
X-LIC-LOCATION:Europe/London
BEGIN:DAYLIGHT
TZOFFSETFROM:+0000
TZOFFSETTO:+0100
TZNAME:BST
DTSTART:20180325T020000Z
RRULE:FREQ=YEARLY;BYMONTH=3;BYDAY=-1SU
END:DAYLIGHT
BEGIN:STANDARD
TZOFFSETFROM:+0100
TZOFFSETTO:+0000
TZNAME:GMT
DTSTART:20181028T020000Z
RRULE:FREQ=YEARLY;BYMONTH=10;BYDAY=-1SU
END:STANDARD
END:VTIMEZONE
BEGIN:VEVENT
SUMMARY:The Graham Norton Show 22x15 - Tom Cruise\, Henry Cavill\,Re
	becca Ferguson\, Simon Pegg\, Paloma Faith
DTSTAMP:20180101T104103Z
SEQUENCE:0
UID:80616-2-841ebed20eb198c4569419e99b7bf40a@themidnightzone.com
ORGANIZER;CN="Midnight":midnight@themidnightzone.com
DESCRIPTION:Graham Norton's guests include Tom Cruise\, talking about hi
	sforthcoming blockbuster Mission: Impossible 6\, with hisco-stars Henry Ca
	vill\, Rebecca Ferguson and Simon Pegg. Plusmusic and chat from Paloma Fai
	th\, who performs 'Til I'm Done.
DTSTART:20180126T223500Z
DTEND:20180126T232500Z
END:VEVENT
END:VCALENDAR
