BEGIN:VCALENDAR
VERSION:2.0
PRODID:-//InvisionCommunity Events 4.7.23//EN
METHOD:PUBLISH
CALSCALE:GREGORIAN
REFRESH-INTERVAL:PT15M
X-PUBLISHED-TTL:PT15M
X-WR-CALNAME:At My TV
NAME:At My TV
BEGIN:VTIMEZONE
TZID:Europe/London
TZURL:http://tzurl.org/zoneinfo/Europe/London
X-LIC-LOCATION:Europe/London
BEGIN:DAYLIGHT
TZOFFSETFROM:+0000
TZOFFSETTO:+0100
TZNAME:BST
DTSTART:20180325T020000Z
RRULE:FREQ=YEARLY;BYMONTH=3;BYDAY=-1SU
END:DAYLIGHT
BEGIN:STANDARD
TZOFFSETFROM:+0100
TZOFFSETTO:+0000
TZNAME:GMT
DTSTART:20181028T020000Z
RRULE:FREQ=YEARLY;BYMONTH=10;BYDAY=-1SU
END:STANDARD
END:VTIMEZONE
BEGIN:VEVENT
SUMMARY:Shark Tank 9x16 - Episode 16
DTSTAMP:20180101T104104Z
SEQUENCE:0
UID:80625-2-841ebed20eb198c4569419e99b7bf40a@themidnightzone.com
ORGANIZER;CN="Midnight":midnight@themidnightzone.com
DESCRIPTION:Husband and wife entrepreneurs from Atlanta\, Georgia\,intro
	duce the Sharks to their famous seafood breading mixbusiness\; an entrepre
	neur from Birmingham\, Mississippi\,provides pets and their owners a way t
	o communicate with oneanother with her invention\; a re-engineered bathrob
	e fortoday's man and for those men who wouldn't be caught dead inone is pr
	esented to the Sharks by an entrepreneur from Roslyn\,New York\; entrepren
	eurs from San Diego\, California\, informthe Sharks on what every man with
	 long hair needs to know andhave in their life.
DTSTART:20180115T020000Z
DTEND:20180115T030000Z
END:VEVENT
END:VCALENDAR
