BEGIN:VCALENDAR
VERSION:2.0
PRODID:-//InvisionCommunity Events 4.7.23//EN
METHOD:PUBLISH
CALSCALE:GREGORIAN
REFRESH-INTERVAL:PT15M
X-PUBLISHED-TTL:PT15M
X-WR-CALNAME:At My TV
NAME:At My TV
BEGIN:VTIMEZONE
TZID:Europe/London
TZURL:http://tzurl.org/zoneinfo/Europe/London
X-LIC-LOCATION:Europe/London
BEGIN:DAYLIGHT
TZOFFSETFROM:+0000
TZOFFSETTO:+0100
TZNAME:BST
DTSTART:20180325T020000Z
RRULE:FREQ=YEARLY;BYMONTH=3;BYDAY=-1SU
END:DAYLIGHT
BEGIN:STANDARD
TZOFFSETFROM:+0100
TZOFFSETTO:+0000
TZNAME:GMT
DTSTART:20181028T020000Z
RRULE:FREQ=YEARLY;BYMONTH=10;BYDAY=-1SU
END:STANDARD
END:VTIMEZONE
BEGIN:VEVENT
SUMMARY:Shark Tank 9x17 - Episode 17
DTSTAMP:20180101T104104Z
SEQUENCE:0
UID:80626-2-841ebed20eb198c4569419e99b7bf40a@themidnightzone.com
ORGANIZER;CN="Midnight":midnight@themidnightzone.com
DESCRIPTION:An entrepreneur from Brookline\, Massachusetts\, empowers wo
	mento create a community that prioritizes living well\, workinghard and en
	couraging women to build businesses of their ownwith her idea\; a trio of 
	entrepreneurs from Williamsburg\,Virginia\, pitch the sharks a fresh\, new
	 way to ease peopleinto water sports with their all-in-one invention\; are
	gistered nurse turned entrepreneur from Carlsbad\,California\, helps breas
	tfeeding moms find a healthy andconvenient way to increase their milk supp
	ly with her deliciousfood item\; a panda-loving entrepreneur from Burbank\
	,California\, hopes to make panda lovers out of the Sharks whenshe present
	s her animal-themed pet apparel company.
DTSTART:20180115T030000Z
DTEND:20180115T040000Z
END:VEVENT
END:VCALENDAR
