BEGIN:VCALENDAR
VERSION:2.0
PRODID:-//InvisionCommunity Events 4.7.23//EN
METHOD:PUBLISH
CALSCALE:GREGORIAN
REFRESH-INTERVAL:PT15M
X-PUBLISHED-TTL:PT15M
X-WR-CALNAME:At My TV
NAME:At My TV
BEGIN:VTIMEZONE
TZID:Europe/London
TZURL:http://tzurl.org/zoneinfo/Europe/London
X-LIC-LOCATION:Europe/London
BEGIN:DAYLIGHT
TZOFFSETFROM:+0000
TZOFFSETTO:+0100
TZNAME:BST
DTSTART:20180325T020000Z
RRULE:FREQ=YEARLY;BYMONTH=3;BYDAY=-1SU
END:DAYLIGHT
BEGIN:STANDARD
TZOFFSETFROM:+0100
TZOFFSETTO:+0000
TZNAME:GMT
DTSTART:20181028T020000Z
RRULE:FREQ=YEARLY;BYMONTH=10;BYDAY=-1SU
END:STANDARD
END:VTIMEZONE
BEGIN:VEVENT
SUMMARY:Silent Witness 21x4 - Duty of Candour - Part Two
DTSTAMP:20180102T104107Z
SEQUENCE:0
UID:80662-2-841ebed20eb198c4569419e99b7bf40a@themidnightzone.com
ORGANIZER;CN="Midnight":midnight@themidnightzone.com
DESCRIPTION:Nikki comes face to face with CEO Simon Laing when it become
	sapparent that the motive for the murders may have beenblackmail.When the 
	team find that the hospital computerdatabase has been hacked\, Clarissa an
	d Max follow the forensicclues to a teenage hacker called Splinter.However
	 the dangergrows much closer to home when Nikki receives a threateningtext
	 with a picture of Thomas's daughter Rosie.
DTSTART:20180116T210000Z
DTEND:20180116T220000Z
END:VEVENT
END:VCALENDAR
