BEGIN:VCALENDAR
VERSION:2.0
PRODID:-//InvisionCommunity Events 4.7.23//EN
METHOD:PUBLISH
CALSCALE:GREGORIAN
REFRESH-INTERVAL:PT15M
X-PUBLISHED-TTL:PT15M
X-WR-CALNAME:At My TV
NAME:At My TV
BEGIN:VTIMEZONE
TZID:Europe/London
TZURL:http://tzurl.org/zoneinfo/Europe/London
X-LIC-LOCATION:Europe/London
BEGIN:DAYLIGHT
TZOFFSETFROM:+0000
TZOFFSETTO:+0100
TZNAME:BST
DTSTART:20180325T020000Z
RRULE:FREQ=YEARLY;BYMONTH=3;BYDAY=-1SU
END:DAYLIGHT
BEGIN:STANDARD
TZOFFSETFROM:+0100
TZOFFSETTO:+0000
TZNAME:GMT
DTSTART:20181028T020000Z
RRULE:FREQ=YEARLY;BYMONTH=10;BYDAY=-1SU
END:STANDARD
END:VTIMEZONE
BEGIN:VEVENT
SUMMARY:The Goldbergs (2013) 5x13 - The Hooters
DTSTAMP:20180104T104104Z
SEQUENCE:0
UID:80813-2-841ebed20eb198c4569419e99b7bf40a@themidnightzone.com
ORGANIZER;CN="Midnight":midnight@themidnightzone.com
DESCRIPTION:Adam tries to be funny in class but ends up distracting hisw
	oodshop teacher\, who nearly injures himself when his tie iscut off so Mur
	ray grounds him. Meanwhile\, Geoff and Beverlytry to become more cultured 
	so Erica will remain close when shedecides she wants to attend a Philip Gl
	ass concert but\, in theend\, they learn something surprising about Erica'
	s taste inmusic. 80s band Hooters makes a special appearance.
DTSTART:20180118T010000Z
DTEND:20180118T013000Z
END:VEVENT
END:VCALENDAR
