BEGIN:VCALENDAR
VERSION:2.0
PRODID:-//InvisionCommunity Events 4.7.23//EN
METHOD:PUBLISH
CALSCALE:GREGORIAN
REFRESH-INTERVAL:PT15M
X-PUBLISHED-TTL:PT15M
X-WR-CALNAME:At My TV
NAME:At My TV
BEGIN:VTIMEZONE
TZID:Europe/London
TZURL:http://tzurl.org/zoneinfo/Europe/London
X-LIC-LOCATION:Europe/London
BEGIN:DAYLIGHT
TZOFFSETFROM:+0000
TZOFFSETTO:+0100
TZNAME:BST
DTSTART:20180325T020000Z
RRULE:FREQ=YEARLY;BYMONTH=3;BYDAY=-1SU
END:DAYLIGHT
BEGIN:STANDARD
TZOFFSETFROM:+0100
TZOFFSETTO:+0000
TZNAME:GMT
DTSTART:20181028T020000Z
RRULE:FREQ=YEARLY;BYMONTH=10;BYDAY=-1SU
END:STANDARD
END:VTIMEZONE
BEGIN:VEVENT
SUMMARY:Modern Family 9x13 - In Your Head
DTSTAMP:20180104T104104Z
SEQUENCE:0
UID:80822-2-841ebed20eb198c4569419e99b7bf40a@themidnightzone.com
ORGANIZER;CN="Midnight":midnight@themidnightzone.com
DESCRIPTION:When Luke goes missing after a night out in a sketchyneighbo
	rhood\, Manny\, Phil and Gloria team up to track himdown. Meanwhile\, Hale
	y is desperate to land an interview withthe creator of a popular lifestyle
	 website and interrupts Alexduring one of her college classes. Alex's prof
	essor\, ArvinFennerman (Chris Geere)\, then proceeds to try and give Haley
	 apiece of his mind.
DTSTART:20180118T020000Z
DTEND:20180118T023000Z
END:VEVENT
END:VCALENDAR
