BEGIN:VCALENDAR
VERSION:2.0
PRODID:-//InvisionCommunity Events 4.7.23//EN
METHOD:PUBLISH
CALSCALE:GREGORIAN
REFRESH-INTERVAL:PT15M
X-PUBLISHED-TTL:PT15M
X-WR-CALNAME:At My TV
NAME:At My TV
BEGIN:VTIMEZONE
TZID:Europe/London
TZURL:http://tzurl.org/zoneinfo/Europe/London
X-LIC-LOCATION:Europe/London
BEGIN:DAYLIGHT
TZOFFSETFROM:+0000
TZOFFSETTO:+0100
TZNAME:BST
DTSTART:20180325T020000Z
RRULE:FREQ=YEARLY;BYMONTH=3;BYDAY=-1SU
END:DAYLIGHT
BEGIN:STANDARD
TZOFFSETFROM:+0100
TZOFFSETTO:+0000
TZNAME:GMT
DTSTART:20181028T020000Z
RRULE:FREQ=YEARLY;BYMONTH=10;BYDAY=-1SU
END:STANDARD
END:VTIMEZONE
BEGIN:VEVENT
SUMMARY:Still Open All Hours 4x4 - Episode 4
DTSTAMP:20180107T104107Z
SEQUENCE:0
UID:80972-2-841ebed20eb198c4569419e99b7bf40a@themidnightzone.com
ORGANIZER;CN="Midnight":midnight@themidnightzone.com
DESCRIPTION:Granville encourages Gastric to express his artistic side in
	 alocal art competition\, but he throws himself intoself-expression more e
	nthusiastically than anyone could havepredicted. Meanwhile Granville has b
	ought a large collection ofmystery tins. Unfortunately Leroy and Granville
	 are still nonethe wiser on the contents after they've opened one. Now the
	yface the ultimate challenge - how can you sell something whenyou have abs
	olutely no idea what it is?
DTSTART:20180121T193000Z
DTEND:20180121T200000Z
END:VEVENT
END:VCALENDAR
