BEGIN:VCALENDAR
VERSION:2.0
PRODID:-//InvisionCommunity Events 4.7.23//EN
METHOD:PUBLISH
CALSCALE:GREGORIAN
REFRESH-INTERVAL:PT15M
X-PUBLISHED-TTL:PT15M
X-WR-CALNAME:At My TV
NAME:At My TV
BEGIN:VTIMEZONE
TZID:Europe/London
TZURL:http://tzurl.org/zoneinfo/Europe/London
X-LIC-LOCATION:Europe/London
BEGIN:DAYLIGHT
TZOFFSETFROM:+0000
TZOFFSETTO:+0100
TZNAME:BST
DTSTART:20180325T020000Z
RRULE:FREQ=YEARLY;BYMONTH=3;BYDAY=-1SU
END:DAYLIGHT
BEGIN:STANDARD
TZOFFSETFROM:+0100
TZOFFSETTO:+0000
TZNAME:GMT
DTSTART:20181028T020000Z
RRULE:FREQ=YEARLY;BYMONTH=10;BYDAY=-1SU
END:STANDARD
END:VTIMEZONE
BEGIN:VEVENT
SUMMARY:Call The Midwife 7x1 - Episode 1
DTSTAMP:20180108T104103Z
SEQUENCE:0
UID:81016-2-841ebed20eb198c4569419e99b7bf40a@themidnightzone.com
ORGANIZER;CN="Midnight":midnight@themidnightzone.com
DESCRIPTION:The Big Freeze continues\, with scheduled power cuts and mor
	eblizzards. The departure of Barbara prompts Sister Julienne torecruit a n
	ew midwife\, Lucille Anderson. Owing to the snow\,Lucille is two days late
	 and her start is bumpy when she fallsill. Lucille is called out from her 
	sick bed to assist Trixiewith a breech birth. Nadine Mulvaney\, a single m
	other andexotic dancer in Soho\, plans to give the baby up for adoption.Bu
	t\, Trixie is concerned that Nadine's Rhesus Negative bloodtype might caus
	e problems for baby.Meanwhile\, Nurse Crane andDr Turner are caring for Ru
	th Gelin\, an elderly Jewish womansuffering from bowel cancer. Ruth and he
	r husband Arnold arefacing eviction from their home of several decades. Th
	e councilhave started to demolish their street as part of the slumclearanc
	e. Nurse Crane must convince the prickly Sergeant Woolfto delay the demoli
	tion until after Ruth passes away.Shelaghwants to return to work and conte
	mplates having an Au Pair. Anapprehensive Trixie decides to take her relat
	ionship withChristopher to the next level while Sister Winifred is nervous
	as her driving test approaches.
DTSTART:20180121T200000Z
DTEND:20180121T210000Z
END:VEVENT
END:VCALENDAR
